BEGIN:VCALENDAR
VERSION:2.0
PRODID:https://sis.leibniz-remscheid.de/modcal/ctrl.php
METHOD:PUBLISH
X-WR-TIMEZONE:Europe/Berlin
BEGIN:VTIMEZONE
TZID:Europe/Berlin
CALSCALE:GREGORIAN
BEGIN:DAYLIGHT
TZOFFSETFROM:+0100
TZOFFSETTO:+0200
TZNAME:CEST
DTSTART:19700329T020000
RRULE:FREQ=YEARLY;BYDAY=-1SU;BYMONTH=3
END:DAYLIGHT
BEGIN:STANDARD
TZOFFSETFROM:+0200
TZOFFSETTO:+0100
TZNAME:CET
DTSTART:19701025T030000
RRULE:FREQ=YEARLY;BYDAY=-1SU;BYMONTH=10
END:STANDARD
END:VTIMEZONE
BEGIN:VTIMEZONE
TZID:Europe/Berlin
BEGIN:STANDARD
DTSTART:20071028T010000
TZOFFSETTO:+0000
TZOFFSETFROM:+0001
END:STANDARD
END:VTIMEZONE
BEGIN:VEVENT
UID:69ed1927494bd-oehl@leibniz-remscheid.de
CATEGORIES:Klassenfahrt/Exkursion
LOCATION:Leibniz-Gymnasium
ATTENDEE;CN=05A;PARTSTAT=ACCEPTED;ROLE=REQ-PARTICIPANT:MAILTO:05A@leib
 niz-remscheid.de
ORGANIZER;CN=Uta Öhl;PARTSTAT=ACCEPTED;ROLE=CHAIR:MAILTO:oehl@leibniz
 -remscheid.de
SUMMARY:Ausflug zum Hof Rocholl
DESCRIPTION:Im Rahmen des Nutztierprojektes findet ein Ausflug zum Bio
 bauernhof statt
CLASS:PUBLIC
SEQUENCE:3
DTSTART:20250312T080000
DTEND:20250312T130000
DTSTAMP:20250312T080000
END:VEVENT
END:VCALENDAR