BEGIN:VCALENDAR
VERSION:2.0
PRODID:https://sis.leibniz-remscheid.de/modcal/ctrl.php
METHOD:PUBLISH
X-WR-TIMEZONE:Europe/Berlin
BEGIN:VTIMEZONE
TZID:Europe/Berlin
CALSCALE:GREGORIAN
BEGIN:DAYLIGHT
TZOFFSETFROM:+0100
TZOFFSETTO:+0200
TZNAME:CEST
DTSTART:19700329T020000
RRULE:FREQ=YEARLY;BYDAY=-1SU;BYMONTH=3
END:DAYLIGHT
BEGIN:STANDARD
TZOFFSETFROM:+0200
TZOFFSETTO:+0100
TZNAME:CET
DTSTART:19701025T030000
RRULE:FREQ=YEARLY;BYDAY=-1SU;BYMONTH=10
END:STANDARD
END:VTIMEZONE
BEGIN:VTIMEZONE
TZID:Europe/Berlin
BEGIN:STANDARD
DTSTART:20071028T010000
TZOFFSETTO:+0000
TZOFFSETFROM:+0001
END:STANDARD
END:VTIMEZONE
BEGIN:VEVENT
UID:69ed192d6c30d-pfe@leibniz-remscheid.de
CATEGORIES:Aula-Veranstaltung
LOCATION:Leibniz-Gymnasium
ATTENDEE;CN=05A;PARTSTAT=ACCEPTED;ROLE=REQ-PARTICIPANT:MAILTO:05A@leib
 niz-remscheid.de
ATTENDEE;CN=05B;PARTSTAT=ACCEPTED;ROLE=REQ-PARTICIPANT:MAILTO:05B@leib
 niz-remscheid.de
ATTENDEE;CN=05C;PARTSTAT=ACCEPTED;ROLE=REQ-PARTICIPANT:MAILTO:05C@leib
 niz-remscheid.de
ORGANIZER;CN=Sabrina Pferdekamp;PARTSTAT=ACCEPTED;ROLE=CHAIR:MAILTO:pf
 e@leibniz-remscheid.de
SUMMARY:Lesung in der Aula
DESCRIPTION:Frau Becker liest ca. 60 min + Auftritt der Ballettschule
CLASS:PUBLIC
SEQUENCE:0
DTSTART:20250314T090000
DTEND:20250314T103000
DTSTAMP:20250314T090000
END:VEVENT
END:VCALENDAR