BEGIN:VCALENDAR
VERSION:2.0
PRODID:https://sis.leibniz-remscheid.de/modcal/ctrl.php
METHOD:PUBLISH
X-WR-TIMEZONE:Europe/Berlin
BEGIN:VTIMEZONE
TZID:Europe/Berlin
CALSCALE:GREGORIAN
BEGIN:DAYLIGHT
TZOFFSETFROM:+0100
TZOFFSETTO:+0200
TZNAME:CEST
DTSTART:19700329T020000
RRULE:FREQ=YEARLY;BYDAY=-1SU;BYMONTH=3
END:DAYLIGHT
BEGIN:STANDARD
TZOFFSETFROM:+0200
TZOFFSETTO:+0100
TZNAME:CET
DTSTART:19701025T030000
RRULE:FREQ=YEARLY;BYDAY=-1SU;BYMONTH=10
END:STANDARD
END:VTIMEZONE
BEGIN:VTIMEZONE
TZID:Europe/Berlin
BEGIN:STANDARD
DTSTART:20071028T010000
TZOFFSETTO:+0000
TZOFFSETFROM:+0001
END:STANDARD
END:VTIMEZONE
BEGIN:VEVENT
UID:69ed5d33aa956-fra@leibniz-remscheid.de
CATEGORIES:Klassenfahrt/Exkursion
LOCATION:Leibniz-Gymnasium
ATTENDEE;CN=08B;PARTSTAT=ACCEPTED;ROLE=REQ-PARTICIPANT:MAILTO:08B@leib
 niz-remscheid.de
ORGANIZER;CN=Cornelius Franke;PARTSTAT=ACCEPTED;ROLE=CHAIR:MAILTO:fra@
 leibniz-remscheid.de
SUMMARY:Exkursion Gleitsport
DESCRIPTION:Eishalle Solingen
CLASS:PUBLIC
SEQUENCE:3
DTSTART:20241205T080000
DTEND:20241205T133000
DTSTAMP:20241205T080000
END:VEVENT
END:VCALENDAR