BEGIN:VCALENDAR
VERSION:2.0
PRODID:https://sis.leibniz-remscheid.de/modcal/ctrl.php
METHOD:PUBLISH
X-WR-TIMEZONE:Europe/Berlin
BEGIN:VTIMEZONE
TZID:Europe/Berlin
CALSCALE:GREGORIAN
BEGIN:DAYLIGHT
TZOFFSETFROM:+0100
TZOFFSETTO:+0200
TZNAME:CEST
DTSTART:19700329T020000
RRULE:FREQ=YEARLY;BYDAY=-1SU;BYMONTH=3
END:DAYLIGHT
BEGIN:STANDARD
TZOFFSETFROM:+0200
TZOFFSETTO:+0100
TZNAME:CET
DTSTART:19701025T030000
RRULE:FREQ=YEARLY;BYDAY=-1SU;BYMONTH=10
END:STANDARD
END:VTIMEZONE
BEGIN:VTIMEZONE
TZID:Europe/Berlin
BEGIN:STANDARD
DTSTART:20071028T010000
TZOFFSETTO:+0000
TZOFFSETFROM:+0001
END:STANDARD
END:VTIMEZONE
BEGIN:VEVENT
UID:69ed4b089a0c6-kra@leibniz-remscheid.de
CATEGORIES:Sonstiges
LOCATION:Leibniz-Gymnasium
ATTENDEE;CN=09C;PARTSTAT=ACCEPTED;ROLE=REQ-PARTICIPANT:MAILTO:09C@leib
 niz-remscheid.de
ORGANIZER;CN=Claudia Maria Krahl;PARTSTAT=ACCEPTED;ROLE=CHAIR:MAILTO:k
 ra@leibniz-remscheid.de
SUMMARY:Fotoalbum - Eine partizipative Theaterperformance über Demokra
 tie
DESCRIPTION:Theater Hagen\nPatenklasse des stückes 9c
CLASS:PUBLIC
SEQUENCE:1
DTSTART:20250127T075000
DTEND:20250127T130000
DTSTAMP:20250127T075000
END:VEVENT
END:VCALENDAR