BEGIN:VCALENDAR
VERSION:2.0
PRODID:https://sis.leibniz-remscheid.de/modcal/ctrl.php
METHOD:PUBLISH
X-WR-TIMEZONE:Europe/Berlin
BEGIN:VTIMEZONE
TZID:Europe/Berlin
CALSCALE:GREGORIAN
BEGIN:DAYLIGHT
TZOFFSETFROM:+0100
TZOFFSETTO:+0200
TZNAME:CEST
DTSTART:19700329T020000
RRULE:FREQ=YEARLY;BYDAY=-1SU;BYMONTH=3
END:DAYLIGHT
BEGIN:STANDARD
TZOFFSETFROM:+0200
TZOFFSETTO:+0100
TZNAME:CET
DTSTART:19701025T030000
RRULE:FREQ=YEARLY;BYDAY=-1SU;BYMONTH=10
END:STANDARD
END:VTIMEZONE
BEGIN:VTIMEZONE
TZID:Europe/Berlin
BEGIN:STANDARD
DTSTART:20071028T010000
TZOFFSETTO:+0000
TZOFFSETFROM:+0001
END:STANDARD
END:VTIMEZONE
BEGIN:VEVENT
UID:69ed4b191aadd-gie@leibniz-remscheid.de
CATEGORIES:Konferenz
LOCATION:Leibniz-Gymnasium
ATTENDEE;CN=05A;PARTSTAT=ACCEPTED;ROLE=REQ-PARTICIPANT:MAILTO:05A@leib
 niz-remscheid.de
ATTENDEE;CN=05B;PARTSTAT=ACCEPTED;ROLE=REQ-PARTICIPANT:MAILTO:05B@leib
 niz-remscheid.de
ATTENDEE;CN=05C;PARTSTAT=ACCEPTED;ROLE=REQ-PARTICIPANT:MAILTO:05C@leib
 niz-remscheid.de
ATTENDEE;CN=06A;PARTSTAT=ACCEPTED;ROLE=REQ-PARTICIPANT:MAILTO:06A@leib
 niz-remscheid.de
ATTENDEE;CN=06B;PARTSTAT=ACCEPTED;ROLE=REQ-PARTICIPANT:MAILTO:06B@leib
 niz-remscheid.de
ATTENDEE;CN=06C;PARTSTAT=ACCEPTED;ROLE=REQ-PARTICIPANT:MAILTO:06C@leib
 niz-remscheid.de
ATTENDEE;CN=07A;PARTSTAT=ACCEPTED;ROLE=REQ-PARTICIPANT:MAILTO:07A@leib
 niz-remscheid.de
ATTENDEE;CN=07B;PARTSTAT=ACCEPTED;ROLE=REQ-PARTICIPANT:MAILTO:07B@leib
 niz-remscheid.de
ATTENDEE;CN=07C;PARTSTAT=ACCEPTED;ROLE=REQ-PARTICIPANT:MAILTO:07C@leib
 niz-remscheid.de
ATTENDEE;CN=08A;PARTSTAT=ACCEPTED;ROLE=REQ-PARTICIPANT:MAILTO:08A@leib
 niz-remscheid.de
ATTENDEE;CN=08B;PARTSTAT=ACCEPTED;ROLE=REQ-PARTICIPANT:MAILTO:08B@leib
 niz-remscheid.de
ATTENDEE;CN=08C;PARTSTAT=ACCEPTED;ROLE=REQ-PARTICIPANT:MAILTO:08C@leib
 niz-remscheid.de
ATTENDEE;CN=08D;PARTSTAT=ACCEPTED;ROLE=REQ-PARTICIPANT:MAILTO:08D@leib
 niz-remscheid.de
ATTENDEE;CN=09A;PARTSTAT=ACCEPTED;ROLE=REQ-PARTICIPANT:MAILTO:09A@leib
 niz-remscheid.de
ATTENDEE;CN=09B;PARTSTAT=ACCEPTED;ROLE=REQ-PARTICIPANT:MAILTO:09B@leib
 niz-remscheid.de
ATTENDEE;CN=09C;PARTSTAT=ACCEPTED;ROLE=REQ-PARTICIPANT:MAILTO:09C@leib
 niz-remscheid.de
ATTENDEE;CN=10A;PARTSTAT=ACCEPTED;ROLE=REQ-PARTICIPANT:MAILTO:10A@leib
 niz-remscheid.de
ATTENDEE;CN=10B;PARTSTAT=ACCEPTED;ROLE=REQ-PARTICIPANT:MAILTO:10B@leib
 niz-remscheid.de
ATTENDEE;CN=10C;PARTSTAT=ACCEPTED;ROLE=REQ-PARTICIPANT:MAILTO:10C@leib
 niz-remscheid.de
ATTENDEE;CN=10D;PARTSTAT=ACCEPTED;ROLE=REQ-PARTICIPANT:MAILTO:10D@leib
 niz-remscheid.de
ATTENDEE;CN=EF;PARTSTAT=ACCEPTED;ROLE=REQ-PARTICIPANT:MAILTO:EF@leibni
 z-remscheid.de
ORGANIZER;CN=Thomas Giebisch;PARTSTAT=ACCEPTED;ROLE=CHAIR:MAILTO:gie@l
 eibniz-remscheid.de
SUMMARY:Zeugniskonferenzen (unterrichtsfreier Studientag für alle Schü
 lerinnen und Schüler der Stufen 5 bis EF)
DESCRIPTION:Zeugniskonferenzen (unterrichtsfreier Studientag für alle 
 Schülerinnen und Schüler der Stufen 5 bis EF)
CLASS:PUBLIC
SEQUENCE:1
DTSTART;VALUE=DATE:20250703
DTEND;VALUE=DATE:20250704
DTSTAMP:20250703T000000
END:VEVENT
END:VCALENDAR