BEGIN:VCALENDAR
VERSION:2.0
PRODID:https://sis.leibniz-remscheid.de/modcal/ctrl.php
METHOD:PUBLISH
X-WR-TIMEZONE:Europe/Berlin
BEGIN:VTIMEZONE
TZID:Europe/Berlin
CALSCALE:GREGORIAN
BEGIN:DAYLIGHT
TZOFFSETFROM:+0100
TZOFFSETTO:+0200
TZNAME:CEST
DTSTART:19700329T020000
RRULE:FREQ=YEARLY;BYDAY=-1SU;BYMONTH=3
END:DAYLIGHT
BEGIN:STANDARD
TZOFFSETFROM:+0200
TZOFFSETTO:+0100
TZNAME:CET
DTSTART:19701025T030000
RRULE:FREQ=YEARLY;BYDAY=-1SU;BYMONTH=10
END:STANDARD
END:VTIMEZONE
BEGIN:VTIMEZONE
TZID:Europe/Berlin
BEGIN:STANDARD
DTSTART:20071028T010000
TZOFFSETTO:+0000
TZOFFSETFROM:+0001
END:STANDARD
END:VTIMEZONE
BEGIN:VEVENT
UID:69ed32fda480e-gie@leibniz-remscheid.de
CATEGORIES:Schulfrei
LOCATION:Leibniz-Gymnasium
ORGANIZER;CN=Thomas Giebisch;PARTSTAT=ACCEPTED;ROLE=CHAIR:MAILTO:gie@l
 eibniz-remscheid.de
SUMMARY:mündliche Prüfungen im 4. Abiturfach (unterrichtsfreier Studie
 ntag für alle Schülerinnen und Schüler der Stufen 5 bis Q1)
DESCRIPTION:mündliche Prüfungen im 4. Abiturfach (unterrichtsfreier St
 udientag für alle Schülerinnen und Schüler der Stufen 5 bis Q1)
CLASS:PUBLIC
SEQUENCE:0
DTSTART;VALUE=DATE:20250602
DTEND;VALUE=DATE:20250603
DTSTAMP:20250602T000000
END:VEVENT
END:VCALENDAR