BEGIN:VCALENDAR
VERSION:2.0
PRODID:https://sis.leibniz-remscheid.de/modcal/ctrl.php
METHOD:PUBLISH
X-WR-TIMEZONE:Europe/Berlin
BEGIN:VTIMEZONE
TZID:Europe/Berlin
CALSCALE:GREGORIAN
BEGIN:DAYLIGHT
TZOFFSETFROM:+0100
TZOFFSETTO:+0200
TZNAME:CEST
DTSTART:19700329T020000
RRULE:FREQ=YEARLY;BYDAY=-1SU;BYMONTH=3
END:DAYLIGHT
BEGIN:STANDARD
TZOFFSETFROM:+0200
TZOFFSETTO:+0100
TZNAME:CET
DTSTART:19701025T030000
RRULE:FREQ=YEARLY;BYDAY=-1SU;BYMONTH=10
END:STANDARD
END:VTIMEZONE
BEGIN:VTIMEZONE
TZID:Europe/Berlin
BEGIN:STANDARD
DTSTART:20071028T010000
TZOFFSETTO:+0000
TZOFFSETFROM:+0001
END:STANDARD
END:VTIMEZONE
BEGIN:VEVENT
UID:69ed1a632c7cf-gie@leibniz-remscheid.de
CATEGORIES:Freiarbeit
LOCATION:Leibniz-Gymnasium
ATTENDEE;CN=07C;PARTSTAT=ACCEPTED;ROLE=REQ-PARTICIPANT:MAILTO:07C@leib
 niz-remscheid.de
ORGANIZER;CN=Thomas Giebisch;PARTSTAT=ACCEPTED;ROLE=CHAIR:MAILTO:gie@l
 eibniz-remscheid.de
SUMMARY:Medienkompetenztage (Fr. Dohrenbusch)
DESCRIPTION:Medienkompetenztage (Fr. Dohrenbusch)
CLASS:PUBLIC
SEQUENCE:4
DTSTART:20250526T075000
DTEND:20250526T101000
DTSTAMP:20250526T075000
END:VEVENT
END:VCALENDAR